BEGIN:VCALENDAR
VERSION:2.0
PRODID:icalendar-ruby
CALSCALE:GREGORIAN
METHOD:PUBLISH
BEGIN:VEVENT
DTSTAMP:20260420T003124Z
UID:126-66738@lmap.org.au
DTSTART:20260713T230000Z
DTEND:20260717T023000Z
CLASS:PUBLIC
CREATED:20260407T095453
DESCRIPTION:\nHoliday Club is four mornings of games\, drama\, craft worksh
 ops and Bible discovery. More details about our 2026 club still to come...
 \nOpen to anyone in year K-6. \nSave the dates! Dates are from 14 - 17 Ju
 ly at LMAP Glenbrook (1 Wascoe St)\, and will run from 9am to 12:30pm each
  day.\nRegistration will open soon.\n
LAST-MODIFIED:20260407T095453
LOCATION:LMAP Glenbrook
SUMMARY:Holiday Club 2026
URL;VALUE=URI:https://www.lmap.org.au/events/holiday-club-2026/2026-07-14
ATTACH;FILENAME=Holiday-Club-2026.png;FMTTYPE=image/png:https://dq5pwpg1q8r
 u0.cloudfront.net/2026/04/06/23/45/57/b11d78d6-c0db-44f7-80d4-69df01f4796e
 /Holiday-Club-2026.png
END:VEVENT
END:VCALENDAR
