BEGIN:VCALENDAR
VERSION:2.0
PRODID:icalendar-ruby
CALSCALE:GREGORIAN
METHOD:PUBLISH
BEGIN:VEVENT
DTSTAMP:20260423T033658Z
UID:167-66850@lmap.org.au
DTSTART:20260503T040000Z
DTEND:20260503T053000Z
CLASS:PUBLIC
CREATED:20260421T085205
DESCRIPTION:Archbishop Kanishka Raffel invites you to join with other churc
 hes in your region to pray together.
LAST-MODIFIED:20260421T085205
LOCATION:St John's Parramatta
SUMMARY:Diocesan Day of Prayer
URL;VALUE=URI:https://www.lmap.org.au/events/diocesan-day-of-prayer/2026-05
 -03
ATTACH;FILENAME=Diocesan-Day-Of-Prayer-2026.jpg;FMTTYPE=image/jpeg:https://
 dq5pwpg1q8ru0.cloudfront.net/2026/04/20/22/51/39/6fd02cc1-6661-471a-b63f-1
 b217a58e145/Diocesan-Day-Of-Prayer-2026.jpg
END:VEVENT
END:VCALENDAR
