BEGIN:VCALENDAR
VERSION:2.0
PRODID:icalendar-ruby
CALSCALE:GREGORIAN
METHOD:PUBLISH
BEGIN:VEVENT
DTSTAMP:20260423T034613Z
UID:115-66848@lmap.org.au
DTSTART:20260504T090000Z
DTEND:20260504T110000Z
CLASS:PUBLIC
CREATED:20260421T084514
DESCRIPTION:Discover what God is doing in the bush\; come and hear James an
 d Charly Boardman speak about their life and ministry in Kelso\, plus a de
 votion from Paul Sampson.
LAST-MODIFIED:20260421T084514
LOCATION:LMAP Glenbrook
SUMMARY:BCA Connect
URL;VALUE=URI:https://www.lmap.org.au/events/bca-connect--115/2026-05-04
ATTACH;FILENAME=NSW-BCA-Connect-May-2026.png;FMTTYPE=image/png:https://dq5p
 wpg1q8ru0.cloudfront.net/2026/04/20/22/19/47/fe4d3f1b-b5d8-4a3e-97ff-a36bb
 2528c19/NSW-BCA-Connect-May-2026.png
END:VEVENT
END:VCALENDAR
